BEGIN:VCALENDAR
VERSION:2.0
PRODID:-//Blue Skies Exploration Academy - ECPv4.6.16//NONSGML v1.0//EN
CALSCALE:GREGORIAN
METHOD:PUBLISH
X-WR-CALNAME:Blue Skies Exploration Academy
X-ORIGINAL-URL:https://blueskiesea.com
X-WR-CALDESC:Events for Blue Skies Exploration Academy
BEGIN:VEVENT
DTSTART;VALUE=DATE:20270401
DTEND;VALUE=DATE:20270402
DTSTAMP:20260425T144718
CREATED:20210312T181139Z
LAST-MODIFIED:20210312T181139Z
UID:12476-1806537600-1806623999@blueskiesea.com
SUMMARY:April Fool's Day
DESCRIPTION:
URL:https://blueskiesea.com/event/april-fools-day/2027-04-01/
CATEGORIES:Calendar Only
END:VEVENT
END:VCALENDAR