BEGIN:VCALENDAR
VERSION:2.0
PRODID:-//Blue Skies Exploration Academy - ECPv4.6.16//NONSGML v1.0//EN
CALSCALE:GREGORIAN
METHOD:PUBLISH
X-WR-CALNAME:Blue Skies Exploration Academy
X-ORIGINAL-URL:https://blueskiesea.com
X-WR-CALDESC:Events for Blue Skies Exploration Academy
BEGIN:VEVENT
DTSTART;VALUE=DATE:20251231
DTEND;VALUE=DATE:20260101
DTSTAMP:20260425T012430
CREATED:20210312T183334Z
LAST-MODIFIED:20210312T183334Z
UID:11200-1767139200-1767225599@blueskiesea.com
SUMMARY:New Year's Eve
DESCRIPTION:
URL:https://blueskiesea.com/event/new-years-eve/2025-12-31/
CATEGORIES:Calendar Only
END:VEVENT
END:VCALENDAR