BEGIN:VCALENDAR
VERSION:2.0
PRODID:-//Blue Skies Exploration Academy - ECPv4.6.16//NONSGML v1.0//EN
CALSCALE:GREGORIAN
METHOD:PUBLISH
X-WR-CALNAME:Blue Skies Exploration Academy
X-ORIGINAL-URL:https://blueskiesea.com
X-WR-CALDESC:Events for Blue Skies Exploration Academy
BEGIN:VEVENT
DTSTART;VALUE=DATE:20250704
DTEND;VALUE=DATE:20250705
DTSTAMP:20260425T111139
CREATED:20210312T181945Z
LAST-MODIFIED:20210312T181945Z
UID:10495-1751587200-1751673599@blueskiesea.com
SUMMARY:Independence Day
DESCRIPTION:
URL:https://blueskiesea.com/event/independence-day/2025-07-04/
CATEGORIES:Calendar Only
END:VEVENT
END:VCALENDAR