BEGIN:VCALENDAR
VERSION:2.0
PRODID:-//Blue Skies Exploration Academy - ECPv4.6.16//NONSGML v1.0//EN
CALSCALE:GREGORIAN
METHOD:PUBLISH
X-WR-CALNAME:Blue Skies Exploration Academy
X-ORIGINAL-URL:https://blueskiesea.com
X-WR-CALDESC:Events for Blue Skies Exploration Academy
BEGIN:VEVENT
DTSTART;VALUE=DATE:20260401
DTEND;VALUE=DATE:20260402
DTSTAMP:20260424T151203
CREATED:20210312T181139Z
LAST-MODIFIED:20210312T181139Z
UID:11536-1775001600-1775087999@blueskiesea.com
SUMMARY:April Fool's Day
DESCRIPTION:
URL:https://blueskiesea.com/event/april-fools-day/2026-04-01/
CATEGORIES:Calendar Only
END:VEVENT
END:VCALENDAR