BEGIN:VCALENDAR
VERSION:2.0
PRODID:-//Blue Skies Exploration Academy - ECPv4.6.16//NONSGML v1.0//EN
CALSCALE:GREGORIAN
METHOD:PUBLISH
X-WR-CALNAME:Blue Skies Exploration Academy
X-ORIGINAL-URL:https://blueskiesea.com
X-WR-CALDESC:Events for Blue Skies Exploration Academy
BEGIN:VEVENT
DTSTART;VALUE=DATE:20260101
DTEND;VALUE=DATE:20260102
DTSTAMP:20260424T214833
CREATED:20200717T185013Z
LAST-MODIFIED:20200717T185013Z
UID:11206-1767225600-1767311999@blueskiesea.com
SUMMARY:New Year's Day
DESCRIPTION:
URL:https://blueskiesea.com/event/new-years-day-centers-closed/2026-01-01/
CATEGORIES:Calendar Only,Prospective Families, Events, Home
END:VEVENT
END:VCALENDAR