BEGIN:VCALENDAR
VERSION:2.0
PRODID:-//Blue Skies Exploration Academy - ECPv4.6.16//NONSGML v1.0//EN
CALSCALE:GREGORIAN
METHOD:PUBLISH
X-WR-CALNAME:Blue Skies Exploration Academy
X-ORIGINAL-URL:https://blueskiesea.com
X-WR-CALDESC:Events for Blue Skies Exploration Academy
BEGIN:VEVENT
DTSTART;VALUE=DATE:20240902
DTEND;VALUE=DATE:20240903
DTSTAMP:20260426T011014
CREATED:20240124T234510Z
LAST-MODIFIED:20240124T234510Z
UID:11311-1725235200-1725321599@blueskiesea.com
SUMMARY:Labor Day
DESCRIPTION:
URL:https://blueskiesea.com/event/labor-day-4/
END:VEVENT
END:VCALENDAR