BEGIN:VCALENDAR
VERSION:2.0
PRODID:-//Blue Skies Exploration Academy - ECPv4.6.16//NONSGML v1.0//EN
CALSCALE:GREGORIAN
METHOD:PUBLISH
X-WR-CALNAME:Blue Skies Exploration Academy
X-ORIGINAL-URL:https://blueskiesea.com
X-WR-CALDESC:Events for Blue Skies Exploration Academy
BEGIN:VEVENT
DTSTART;VALUE=DATE:20221113
DTEND;VALUE=DATE:20221114
DTSTAMP:20260425T131008
CREATED:20220502T222934Z
LAST-MODIFIED:20220502T222934Z
UID:6244-1668297600-1668383999@blueskiesea.com
SUMMARY:World Kindness Day
DESCRIPTION:
URL:https://blueskiesea.com/event/world-kindness-day/
END:VEVENT
END:VCALENDAR