BEGIN:VCALENDAR
VERSION:2.0
PRODID:-//Blue Skies Exploration Academy - ECPv4.6.16//NONSGML v1.0//EN
CALSCALE:GREGORIAN
METHOD:PUBLISH
X-WR-CALNAME:Blue Skies Exploration Academy
X-ORIGINAL-URL:https://blueskiesea.com
X-WR-CALDESC:Events for Blue Skies Exploration Academy
BEGIN:VEVENT
DTSTART;VALUE=DATE:20271111
DTEND;VALUE=DATE:20271112
DTSTAMP:20260425T012344
CREATED:20210312T182641Z
LAST-MODIFIED:20210312T182641Z
UID:12607-1825891200-1825977599@blueskiesea.com
SUMMARY:Veterans' Day
DESCRIPTION:
URL:https://blueskiesea.com/event/veterans-day/2027-11-11/
CATEGORIES:Calendar Only
END:VEVENT
END:VCALENDAR