BEGIN:VCALENDAR
VERSION:2.0
PRODID:-//Blue Skies Exploration Academy - ECPv4.6.16//NONSGML v1.0//EN
CALSCALE:GREGORIAN
METHOD:PUBLISH
X-WR-CALNAME:Blue Skies Exploration Academy
X-ORIGINAL-URL:https://blueskiesea.com
X-WR-CALDESC:Events for Blue Skies Exploration Academy
BEGIN:VEVENT
DTSTART;VALUE=DATE:20220811
DTEND;VALUE=DATE:20220812
DTSTAMP:20260425T132551
CREATED:20220502T222353Z
LAST-MODIFIED:20220502T222353Z
UID:6199-1660176000-1660262399@blueskiesea.com
SUMMARY:Son and Daughter Day
DESCRIPTION:
URL:https://blueskiesea.com/event/son-daughter-day/
END:VEVENT
END:VCALENDAR