BEGIN:VCALENDAR
VERSION:2.0
PRODID:-//Blue Skies Exploration Academy - ECPv4.6.16//NONSGML v1.0//EN
CALSCALE:GREGORIAN
METHOD:PUBLISH
X-WR-CALNAME:Blue Skies Exploration Academy
X-ORIGINAL-URL:https://blueskiesea.com
X-WR-CALDESC:Events for Blue Skies Exploration Academy
BEGIN:VEVENT
DTSTART;VALUE=DATE:20210215
DTEND;VALUE=DATE:20210216
DTSTAMP:20260425T012850
CREATED:20210105T160416Z
LAST-MODIFIED:20210105T160416Z
UID:2885-1613347200-1613433599@blueskiesea.com
SUMMARY:Presidents' Day
DESCRIPTION:
URL:https://blueskiesea.com/event/presidents-day/
CATEGORIES:Calendar Only
END:VEVENT
END:VCALENDAR