BEGIN:VCALENDAR
VERSION:2.0
PRODID:-//Blue Skies Exploration Academy - ECPv4.6.16//NONSGML v1.0//EN
CALSCALE:GREGORIAN
METHOD:PUBLISH
X-WR-CALNAME:Blue Skies Exploration Academy
X-ORIGINAL-URL:https://blueskiesea.com
X-WR-CALDESC:Events for Blue Skies Exploration Academy
BEGIN:VEVENT
DTSTART;VALUE=DATE:20230723
DTEND;VALUE=DATE:20230724
DTSTAMP:20260425T113053
CREATED:20230425T203253Z
LAST-MODIFIED:20230425T203253Z
UID:9905-1690070400-1690156799@blueskiesea.com
SUMMARY:Parents’ Day
DESCRIPTION:
URL:https://blueskiesea.com/event/parents-day-3/
END:VEVENT
END:VCALENDAR