BEGIN:VCALENDAR
VERSION:2.0
PRODID:-//Blue Skies Exploration Academy - ECPv4.6.16//NONSGML v1.0//EN
CALSCALE:GREGORIAN
METHOD:PUBLISH
X-WR-CALNAME:Blue Skies Exploration Academy
X-ORIGINAL-URL:https://blueskiesea.com
X-WR-CALDESC:Events for Blue Skies Exploration Academy
BEGIN:VEVENT
DTSTART;VALUE=DATE:20201120
DTEND;VALUE=DATE:20201121
DTSTAMP:20260425T132625
CREATED:20200717T184730Z
LAST-MODIFIED:20200717T184730Z
UID:2122-1605830400-1605916799@blueskiesea.com
SUMMARY:National Parent Involvement Day
DESCRIPTION:
URL:https://blueskiesea.com/event/national-parent-involvement-day/
CATEGORIES:Calendar Only
END:VEVENT
END:VCALENDAR