BEGIN:VCALENDAR
VERSION:2.0
PRODID:-//Blue Skies Exploration Academy - ECPv4.6.16//NONSGML v1.0//EN
CALSCALE:GREGORIAN
METHOD:PUBLISH
X-WR-CALNAME:Blue Skies Exploration Academy
X-ORIGINAL-URL:https://blueskiesea.com
X-WR-CALDESC:Events for Blue Skies Exploration Academy
BEGIN:VEVENT
DTSTART;VALUE=DATE:20210901
DTEND;VALUE=DATE:20210902
DTSTAMP:20260425T123825
CREATED:20210312T182238Z
LAST-MODIFIED:20210312T182238Z
UID:3278-1630454400-1630540799@blueskiesea.com
SUMMARY:National Learning and Development Month
DESCRIPTION:
URL:https://blueskiesea.com/event/national-learning-development-month/
CATEGORIES:Calendar Only
END:VEVENT
END:VCALENDAR