BEGIN:VCALENDAR
VERSION:2.0
PRODID:-//Blue Skies Exploration Academy - ECPv4.6.16//NONSGML v1.0//EN
CALSCALE:GREGORIAN
METHOD:PUBLISH
X-WR-CALNAME:Blue Skies Exploration Academy
X-ORIGINAL-URL:https://blueskiesea.com
X-WR-CALDESC:Events for Blue Skies Exploration Academy
BEGIN:VEVENT
DTSTART;VALUE=DATE:20210827
DTEND;VALUE=DATE:20210828
DTSTAMP:20260425T104634
CREATED:20210312T182207Z
LAST-MODIFIED:20210312T182207Z
UID:3272-1630022400-1630108799@blueskiesea.com
SUMMARY:National Just Because Day
DESCRIPTION:
URL:https://blueskiesea.com/event/national-just-day/
CATEGORIES:Calendar Only
END:VEVENT
END:VCALENDAR