BEGIN:VCALENDAR
VERSION:2.0
PRODID:-//Blue Skies Exploration Academy - ECPv4.6.16//NONSGML v1.0//EN
CALSCALE:GREGORIAN
METHOD:PUBLISH
X-WR-CALNAME:Blue Skies Exploration Academy
X-ORIGINAL-URL:https://blueskiesea.com
X-WR-CALDESC:Events for Blue Skies Exploration Academy
BEGIN:VEVENT
DTSTART;VALUE=DATE:20200907
DTEND;VALUE=DATE:20200908
DTSTAMP:20260426T000515
CREATED:20200716T172501Z
LAST-MODIFIED:20200716T172501Z
UID:2062-1599436800-1599523199@blueskiesea.com
SUMMARY:Labor Day – Centers Closed
DESCRIPTION:
URL:https://blueskiesea.com/event/labor-day-centers-closed/
CATEGORIES:Calendar Only,Prospective Families, Events, Home
END:VEVENT
END:VCALENDAR