BEGIN:VCALENDAR
VERSION:2.0
PRODID:-//Blue Skies Exploration Academy - ECPv4.6.16//NONSGML v1.0//EN
CALSCALE:GREGORIAN
METHOD:PUBLISH
X-WR-CALNAME:Blue Skies Exploration Academy
X-ORIGINAL-URL:https://blueskiesea.com
X-WR-CALDESC:Events for Blue Skies Exploration Academy
BEGIN:VEVENT
DTSTART;VALUE=DATE:20221010
DTEND;VALUE=DATE:20221011
DTSTAMP:20260425T113126
CREATED:20220502T222702Z
LAST-MODIFIED:20220502T222710Z
UID:6235-1665360000-1665446399@blueskiesea.com
SUMMARY:Indigenous People’s Day
DESCRIPTION:
URL:https://blueskiesea.com/event/indigenous-peoples-day/
END:VEVENT
END:VCALENDAR