BEGIN:VCALENDAR
VERSION:2.0
PRODID:-//Blue Skies Exploration Academy - ECPv4.6.16//NONSGML v1.0//EN
CALSCALE:GREGORIAN
METHOD:PUBLISH
X-WR-CALNAME:Blue Skies Exploration Academy
X-ORIGINAL-URL:https://blueskiesea.com
X-WR-CALDESC:Events for Blue Skies Exploration Academy
BEGIN:VEVENT
DTSTART;VALUE=DATE:20221201
DTEND;VALUE=DATE:20221202
DTSTAMP:20260425T112930
CREATED:20220502T223103Z
LAST-MODIFIED:20220502T223103Z
UID:6262-1669852800-1669939199@blueskiesea.com
SUMMARY:Hanukkah
DESCRIPTION:
URL:https://blueskiesea.com/event/hanukkah/
END:VEVENT
END:VCALENDAR