BEGIN:VCALENDAR
VERSION:2.0
PRODID:-//Blue Skies Exploration Academy - ECPv4.6.16//NONSGML v1.0//EN
CALSCALE:GREGORIAN
METHOD:PUBLISH
X-WR-CALNAME:Blue Skies Exploration Academy
X-ORIGINAL-URL:https://blueskiesea.com
X-WR-CALDESC:Events for Blue Skies Exploration Academy
BEGIN:VEVENT
DTSTART;VALUE=DATE:20200913
DTEND;VALUE=DATE:20200914
DTSTAMP:20260425T222550
CREATED:20200717T184327Z
LAST-MODIFIED:20200717T184327Z
UID:2086-1599955200-1600041599@blueskiesea.com
SUMMARY:Grandparents' Day
DESCRIPTION:
URL:https://blueskiesea.com/event/grandparents-day/
CATEGORIES:Calendar Only
END:VEVENT
END:VCALENDAR