BEGIN:VCALENDAR
VERSION:2.0
PRODID:-//Blue Skies Exploration Academy - ECPv4.6.16//NONSGML v1.0//EN
CALSCALE:GREGORIAN
METHOD:PUBLISH
X-WR-CALNAME:Blue Skies Exploration Academy
X-ORIGINAL-URL:https://blueskiesea.com
X-WR-CALDESC:Events for Blue Skies Exploration Academy
BEGIN:VEVENT
DTSTART;VALUE=DATE:20220928
DTEND;VALUE=DATE:20220929
DTSTAMP:20260425T131110
CREATED:20220502T222608Z
LAST-MODIFIED:20220502T222608Z
UID:6223-1664323200-1664409599@blueskiesea.com
SUMMARY:Good Neighbor Day
DESCRIPTION:
URL:https://blueskiesea.com/event/good-neighbor-day/
END:VEVENT
END:VCALENDAR