BEGIN:VCALENDAR
VERSION:2.0
PRODID:-//Blue Skies Exploration Academy - ECPv4.6.16//NONSGML v1.0//EN
CALSCALE:GREGORIAN
METHOD:PUBLISH
X-WR-CALNAME:Blue Skies Exploration Academy
X-ORIGINAL-URL:https://blueskiesea.com
X-WR-CALDESC:Events for Blue Skies Exploration Academy
BEGIN:VEVENT
DTSTART;VALUE=DATE:20220619
DTEND;VALUE=DATE:20220620
DTSTAMP:20260425T131900
CREATED:20220502T222009Z
LAST-MODIFIED:20220502T222009Z
UID:6169-1655596800-1655683199@blueskiesea.com
SUMMARY:Father’s Day
DESCRIPTION:
URL:https://blueskiesea.com/event/fathers-day-2/
END:VEVENT
END:VCALENDAR