BEGIN:VCALENDAR
VERSION:2.0
PRODID:-//Blue Skies Exploration Academy - ECPv4.6.16//NONSGML v1.0//EN
CALSCALE:GREGORIAN
METHOD:PUBLISH
X-WR-CALNAME:Blue Skies Exploration Academy
X-ORIGINAL-URL:https://blueskiesea.com
X-WR-CALDESC:Events for Blue Skies Exploration Academy
BEGIN:VEVENT
DTSTART;VALUE=DATE:20220626
DTEND;VALUE=DATE:20220627
DTSTAMP:20260425T145040
CREATED:20220502T222135Z
LAST-MODIFIED:20220502T222135Z
UID:6175-1656201600-1656287999@blueskiesea.com
SUMMARY:Chocolate Pudding Day
DESCRIPTION:
URL:https://blueskiesea.com/event/chocolate-pudding-day/
END:VEVENT
END:VCALENDAR