BEGIN:VCALENDAR
VERSION:2.0
PRODID:-//Blue Skies Exploration Academy - ECPv4.6.16//NONSGML v1.0//EN
CALSCALE:GREGORIAN
METHOD:PUBLISH
X-WR-CALNAME:Blue Skies Exploration Academy
X-ORIGINAL-URL:https://blueskiesea.com
X-WR-CALDESC:Events for Blue Skies Exploration Academy
BEGIN:VEVENT
DTSTART;VALUE=DATE:20230626
DTEND;VALUE=DATE:20230627
DTSTAMP:20260425T113053
CREATED:20230425T202852Z
LAST-MODIFIED:20230425T202852Z
UID:9893-1687737600-1687823999@blueskiesea.com
SUMMARY:Chocolate Pudding Day
DESCRIPTION:
URL:https://blueskiesea.com/event/chocolate-pudding-day-2/
END:VEVENT
END:VCALENDAR