BEGIN:VCALENDAR
VERSION:2.0
PRODID:-//Blue Skies Exploration Academy - ECPv4.6.16//NONSGML v1.0//EN
CALSCALE:GREGORIAN
METHOD:PUBLISH
X-WR-CALNAME:Blue Skies Exploration Academy
X-ORIGINAL-URL:https://blueskiesea.com
X-WR-CALDESC:Events for Blue Skies Exploration Academy
BEGIN:VEVENT
DTSTART;VALUE=DATE:20201116
DTEND;VALUE=DATE:20201121
DTSTAMP:20260425T133055
CREATED:20200717T184706Z
LAST-MODIFIED:20200717T184706Z
UID:2116-1605484800-1605916799@blueskiesea.com
SUMMARY:American Education Week
DESCRIPTION:
URL:https://blueskiesea.com/event/american-education-week/
CATEGORIES:Calendar Only
END:VEVENT
END:VCALENDAR